BEGIN:VCALENDAR
VERSION:2.0
PRODID:Facultat de Ciències Jurídiques
BEGIN:VEVENT
UID:69ebd981e5504
DTSTART:20260429T070000Z
SEQUENCE:0
TRANSP:OPAQUE
DTEND:20260429T110000Z
URL:https://www.fcj.urv.cat/es/agenda/12143/actualitat-asseguradora-al-sect
 or-maritim-portuari-reptes-i-oportunitats
LOCATION:Autoritat Portuària de Tarragona\, sala Josefina Castellví
SUMMARY:Actualidad aseguradora en el sector marítimo-portuario: Retos y op
 ortunidades
CLASS:PUBLIC
DESCRIPTION:Jornada sobre la actualidad aseguradora en el sector marítimo-
 portuario\, centrada en los retos derivados de la digitalización\, el cam
 bio climático y el entorno regulatorio.\nReunirá a profesionales del ám
 bito jurídico\, asegurador y portuario para analizar riesgos y oportunida
 des del sector.\nSe celebrará el 29 de abril de 2026 en el Port de Tarrag
 ona\, en formato presencial y streaming.\nOrganizada por la URV\, el Puert
 o\, el ICAT y Marsh.
DTSTAMP:20260424T205841Z
END:VEVENT
END:VCALENDAR