BEGIN:VCALENDAR
VERSION:2.0
PRODID:Facultat de Ciències Jurídiques
BEGIN:VEVENT
UID:69ebf24917b14
DTSTART:20260429T070000Z
SEQUENCE:0
TRANSP:OPAQUE
DTEND:20260429T110000Z
URL:https://www.fcj.urv.cat/ca/agenda/12143/actualitat-asseguradora-al-sect
 or-maritim-portuari-reptes-i-oportunitats
LOCATION:Autoritat Portuària de Tarragona\, sala Josefina Castellví
SUMMARY:Actualitat asseguradora al sector marítim-portuari: Reptes i oport
 unitats
CLASS:PUBLIC
DESCRIPTION:Jornada sobre l&#39\;actualitat asseguradora al sector marítim
 -portuari\, centrada en els reptes derivats de la digitalització\, el can
 vi climàtic i l&#39\;entorn regulador.\nReunirà professionals del món j
 urídic\, assegurador i portuari per analitzar riscos i oportunitats del s
 ector.\nSe celebrarà el 29 d&#39\;abril de 2026 al Port de Tarragona\, en
  format presencial i streaming.\nOrganitzada per la URV\, el Port\, l&#39\
 ;ICAT i Marsh.
DTSTAMP:20260424T224425Z
END:VEVENT
END:VCALENDAR