BEGIN:VCALENDAR
VERSION:2.0
PRODID:Facultat de Ciències Jurídiques
BEGIN:VEVENT
UID:69ebdcb2916e1
DTSTART:20260630T080000Z
SEQUENCE:0
TRANSP:OPAQUE
DTEND:20260629T220000Z
URL:https://www.fcj.urv.cat/ca/agenda/11957/congres-internacional-sobre-les
 -slapp-i-la-defensa-dels-drets-humans
LOCATION:Sala de Graus\, Campus Catalunya\, RTarragona
SUMMARY:Congrés internacional sobre les SLAPP i la defensa dels drets huma
 ns
CLASS:PUBLIC
DESCRIPTION:La Universitat Rovira i Virgili acollirà el pròxim 30 de juny
  de 2026 el Congrés Internacional &quot\;SLAPP\, Activisme i Drets Humans
 : Reptes Jurídics i Socials en la Defensa del Medi Ambient&quot\;\, que t
 indrà lloc a la Sala de Graus del Campus Catalunya\, a Tarragona.\n\nEl c
 ongrés té com a objectiu analitzar el fenomen creixent de les demandes e
 stratègiques contra la participació pública\, conegudes com a SLAPP (St
 rategic Lawsuits Against Public Participation -demandes estratègiques con
 tra la participació pública&nbsp\;o&nbsp\;litigis intimidatoris-)\, una 
 pràctica que\, mitjançant litigis abusius\, busca silenciar i intimidar 
 persones defensores dels drets humans\, especialment en l&#39\;àmbit de l
 a protecció del medi ambient. Aquest tipus d&#39\;accions judicials s&#39
 \;ha convertit en un repte rellevant per a la llibertat d&#39\;expressió 
 i la participació democràtica\, tant a escala estatal com europea.\n\nTo
 ta la informació és a la web del CEDAT cedat.urv.cat
DTSTAMP:20260424T211218Z
END:VEVENT
END:VCALENDAR